{
 "currentVersion": 10.61,
 "cimVersion": "2.2.0",
 "serviceDescription": "",
 "mapName": "Bodemkunding wandonderzoek",
 "description": "",
 "copyrightText": "",
 "supportsDynamicLayers": true,
 "layers": [
  {
   "id": 0,
   "name": "Bodemkundig wandonderzoek",
   "parentLayerId": -1,
   "defaultVisibility": true,
   "subLayerIds": null,
   "minScale": 0,
   "maxScale": 0
  }
 ],
 "tables": [],
 "spatialReference": {
  "wkid": 28992,
  "latestWkid": 28992,
  "xyTolerance": 0.001,
  "zTolerance": 0.001,
  "mTolerance": 0.001,
  "falseX": -30515500,
  "falseY": -30279500,
  "xyUnits": 10000,
  "falseZ": -100000,
  "zUnits": 10000,
  "falseM": -100000,
  "mUnits": 10000
 },
 "singleFusedMapCache": true,
 "tileInfo": {
  "rows": 256,
  "cols": 256,
  "dpi": 96,
  "format": "PNG",
  "compressionQuality": 0,
  "origin": {
   "x": -30515500,
   "y": 3.1112399999999993E7
  },
  "spatialReference": {
   "wkid": 28992,
   "latestWkid": 28992,
   "xyTolerance": 0.001,
   "zTolerance": 0.001,
   "mTolerance": 0.001,
   "falseX": -30515500,
   "falseY": -30279500,
   "xyUnits": 10000,
   "falseZ": -100000,
   "zUnits": 10000,
   "falseM": -100000,
   "mUnits": 10000
  },
  "lods": [
   {
    "level": 0,
    "resolution": 3251.206502413005,
    "scale": 12288000
   },
   {
    "level": 1,
    "resolution": 1625.6032512065026,
    "scale": 6144000
   },
   {
    "level": 2,
    "resolution": 812.8016256032513,
    "scale": 3072000
   },
   {
    "level": 3,
    "resolution": 406.40081280162565,
    "scale": 1536000
   },
   {
    "level": 4,
    "resolution": 203.20040640081282,
    "scale": 768000
   },
   {
    "level": 5,
    "resolution": 101.60020320040641,
    "scale": 384000
   },
   {
    "level": 6,
    "resolution": 50.800101600203206,
    "scale": 192000
   }
  ]
 },
 "initialExtent": {
  "xmin": -923431.4474057534,
  "ymin": -203765.286165472,
  "xmax": 1195217.3198585145,
  "ymax": 1172356.001281099,
  "spatialReference": {
   "wkid": 28992,
   "latestWkid": 28992,
   "xyTolerance": 0.001,
   "zTolerance": 0.001,
   "mTolerance": 0.001,
   "falseX": -30515500,
   "falseY": -30279500,
   "xyUnits": 10000,
   "falseZ": -100000,
   "zUnits": 10000,
   "falseM": -100000,
   "mUnits": 10000
  }
 },
 "fullExtent": {
  "xmin": 75936.13500000164,
  "ymin": 365214.01099999994,
  "xmax": 237582.04800000042,
  "ymax": 534008.5819999985,
  "spatialReference": {
   "wkid": 28992,
   "latestWkid": 28992,
   "xyTolerance": 0.001,
   "zTolerance": 0.001,
   "mTolerance": 0.001,
   "falseX": -30515500,
   "falseY": -30279500,
   "xyUnits": 10000,
   "falseZ": -100000,
   "zUnits": 10000,
   "falseM": -100000,
   "mUnits": 10000
  }
 },
 "minScale": 12288000,
 "maxScale": 192000,
 "units": "esriMeters",
 "supportedImageFormatTypes": "PNG32,PNG24,PNG,JPG,DIB,TIFF,EMF,PS,PDF,GIF,SVG,SVGZ,BMP",
 "documentInfo": {
  "Title": "Map",
  "Author": "",
  "Comments": "",
  "Subject": "",
  "Category": "",
  "AntialiasingMode": "Fast",
  "TextAntialiasingMode": "Force",
  "Keywords": ""
 },
 "capabilities": "Query,Map,Data",
 "supportedQueryFormats": "JSON, AMF, geoJSON",
 "exportTilesAllowed": false,
 "datumTransformations": [
  {
   "geoTransforms": [
    {
     "wkid": 108042,
     "latestWkid": 108042,
     "transformForward": false,
     "name": "Amersfoort_To_WGS_1984_NTv2"
    }
   ]
  },
  {
   "geoTransforms": [
    {
     "wkid": 108042,
     "latestWkid": 108042,
     "transformForward": true,
     "name": "Amersfoort_To_WGS_1984_NTv2"
    }
   ]
  },
  {
   "geoTransforms": [
    {
     "wkid": 108042,
     "latestWkid": 108042,
     "transformForward": false,
     "name": "Amersfoort_To_WGS_1984_NTv2"
    }
   ]
  },
  {
   "geoTransforms": [
    {
     "wkid": 108042,
     "latestWkid": 108042,
     "transformForward": true,
     "name": "Amersfoort_To_WGS_1984_NTv2"
    }
   ]
  },
  {
   "geoTransforms": [
    {
     "wkid": 108041,
     "latestWkid": 7000,
     "transformForward": false,
     "name": "Amersfoort_To_ETRS_1989_NTv2"
    }
   ]
  },
  {
   "geoTransforms": [
    {
     "wkid": 108041,
     "latestWkid": 7000,
     "transformForward": true,
     "name": "Amersfoort_To_ETRS_1989_NTv2"
    }
   ]
  }
 ],
 "supportsDatumTransformation": true,
 "archivingInfo": {
  "supportsHistoricMoment": false
 },
 "maxRecordCount": 2000,
 "maxImageHeight": 4096,
 "maxImageWidth": 4096,
 "supportedExtensions": ""
}
