{
 "currentVersion": 10.61,
 "serviceDescription": "",
 "mapName": "Layers",
 "description": "",
 "copyrightText": "",
 "supportsDynamicLayers": false,
 "layers": [
  {
   "id": 0,
   "name": "gmd booronderzoek 00",
   "parentLayerId": -1,
   "defaultVisibility": true,
   "subLayerIds": null,
   "minScale": 12288000,
   "maxScale": 12288000
  },
  {
   "id": 1,
   "name": "gmd booronderzoek 01",
   "parentLayerId": -1,
   "defaultVisibility": true,
   "subLayerIds": null,
   "minScale": 6144000,
   "maxScale": 6144000
  },
  {
   "id": 2,
   "name": "gmd booronderzoek 02",
   "parentLayerId": -1,
   "defaultVisibility": true,
   "subLayerIds": null,
   "minScale": 3072000,
   "maxScale": 3072000
  },
  {
   "id": 3,
   "name": "gmd booronderzoek 03",
   "parentLayerId": -1,
   "defaultVisibility": true,
   "subLayerIds": null,
   "minScale": 1536000,
   "maxScale": 1536000
  },
  {
   "id": 4,
   "name": "gmd booronderzoek 04",
   "parentLayerId": -1,
   "defaultVisibility": true,
   "subLayerIds": null,
   "minScale": 768000,
   "maxScale": 768000
  },
  {
   "id": 5,
   "name": "gmd booronderzoek 05",
   "parentLayerId": -1,
   "defaultVisibility": true,
   "subLayerIds": null,
   "minScale": 384000,
   "maxScale": 384000
  },
  {
   "id": 6,
   "name": "gmd booronderzoek 06",
   "parentLayerId": -1,
   "defaultVisibility": true,
   "subLayerIds": null,
   "minScale": 192000,
   "maxScale": 192000
  }
 ],
 "tables": [],
 "spatialReference": {
  "wkid": 28992,
  "latestWkid": 28992
 },
 "singleFusedMapCache": true,
 "tileInfo": {
  "rows": 256,
  "cols": 256,
  "dpi": 91,
  "format": "PNG32",
  "compressionQuality": 0,
  "origin": {
   "x": -285401.92,
   "y": 903402
  },
  "spatialReference": {
   "wkid": 28992,
   "latestWkid": 28992
  },
  "lods": [
   {
    "level": 0,
    "resolution": 3429.844222325808,
    "scale": 12288000
   },
   {
    "level": 1,
    "resolution": 1714.922111162904,
    "scale": 6144000
   },
   {
    "level": 2,
    "resolution": 857.461055581452,
    "scale": 3072000
   },
   {
    "level": 3,
    "resolution": 428.730527790726,
    "scale": 1536000
   },
   {
    "level": 4,
    "resolution": 214.365263895363,
    "scale": 768000
   },
   {
    "level": 5,
    "resolution": 107.1826319476815,
    "scale": 384000
   },
   {
    "level": 6,
    "resolution": 53.59131597384075,
    "scale": 192000
   }
  ]
 },
 "initialExtent": {
  "xmin": 57713.53454406922,
  "ymin": 615338.2868868893,
  "xmax": 125074.46926593866,
  "ymax": 645564.3473390101,
  "spatialReference": {
   "wkid": 28992,
   "latestWkid": 28992
  }
 },
 "fullExtent": {
  "xmin": -45000,
  "ymin": 299300,
  "xmax": 308640,
  "ymax": 899370,
  "spatialReference": {
   "wkid": 28992,
   "latestWkid": 28992
  }
 },
 "minScale": 12288000,
 "maxScale": 192000,
 "units": "esriMeters",
 "supportedImageFormatTypes": "PNG32,PNG24,PNG,JPG,DIB,TIFF,EMF,PS,PDF,GIF,SVG,SVGZ,BMP",
 "documentInfo": {
  "Title": "",
  "Author": "",
  "Comments": "",
  "Subject": "",
  "Category": "",
  "AntialiasingMode": "None",
  "TextAntialiasingMode": "Force",
  "Keywords": ""
 },
 "capabilities": "Map,Query,Data",
 "supportedQueryFormats": "JSON, AMF, geoJSON",
 "exportTilesAllowed": false,
 "datumTransformations": [
  {
   "geoTransforms": [
    {
     "wkid": 108001,
     "latestWkid": 1241,
     "transformForward": true,
     "name": "NAD_1927_To_NAD_1983_NADCON"
    }
   ]
  },
  {
   "geoTransforms": [
    {
     "wkid": 108001,
     "latestWkid": 1241,
     "transformForward": false,
     "name": "NAD_1927_To_NAD_1983_NADCON"
    }
   ]
  }
 ],
 "supportsDatumTransformation": true,
 "maxRecordCount": 5000,
 "maxImageHeight": 4096,
 "maxImageWidth": 4096,
 "supportedExtensions": ""
}
